
BEGIN:VCALENDAR
VERSION:2.0
PRODID:-//Peaceful Birthing - ECPv4.6.16//NONSGML v1.0//EN
CALSCALE:GREGORIAN
METHOD:PUBLISH
X-WR-CALNAME:Peaceful Birthing
X-ORIGINAL-URL:https://peacefulbirthing.com.au
X-WR-CALDESC:Events for Peaceful Birthing
BEGIN:VEVENT
DTSTART;TZID=Australia/Melbourne:20181201T090000
DTEND;TZID=Australia/Melbourne:20190223T153000
DTSTAMP:20200301T193415
CREATED:20180202T014153Z
LAST-MODIFIED:20190224T235751Z
UID:9590-1543654800-1550935800@peacefulbirthing.com.au
SUMMARY:Maternity Leave... I'll be back in 2019!
DESCRIPTION:Maternity leave\, bubs due mid December. See you in 2019!\nFor other hypnobirthing practitioners\, please go to https://hypnobirthingaustralia.com.au/find-a-practitioner/ \n  \n
URL:https://peacefulbirthing.com.au/event/group-sessions-saturdays-7/
CATEGORIES:Course
ATTACH;FMTTYPE=image/jpeg:https://peacefulbirthing.com.au/wp-content/uploads/2018/03/Event4.jpg
ORGANIZER;CN="Simone%20Hackett":MAILTO:simone@peacefulbirthing.com.au
END:VEVENT
END:VCALENDAR